BEGIN:VCALENDAR
VERSION:2.0
PRODID:-//Plone.org//NONSGML plone.app.event//EN
X-WR-TIMEZONE:Africa/Johannesburg
BEGIN:VEVENT
SUMMARY:Access to Justice Conference
DTSTART;VALUE=DATE:20170823
DTEND;VALUE=DATE:20170825
DTSTAMP;VALUE=DATE-TIME:20260421T150322Z
UID:4e7b0bb831384b64a2d7c7a1ad86fdf3@68.183.32.190:8292
ATTENDEE;CN="Lukas Muntingh ACJR";ROLE=REQ-PARTICIPANT:Lukas Muntingh ACJR
ATTENDEE;CN="Kristen Petersen ACJR";ROLE=REQ-PARTICIPANT:Kristen Petersen 
 ACJR
CATEGORIES:ACJR Event
CREATED;VALUE=DATE-TIME:20170630T105909Z
DESCRIPTION:The conference\, under the auspices of the Access to Justice c
 omponent of the Ministry of Justice of Zambia\, is funded by GTZ and the E
 U\, and seeks to spearhead reforms in Zambia.
LAST-MODIFIED;VALUE=DATE-TIME:20230913T082738Z
LOCATION:Lusaka
URL:https://dullahomarinstitute.org.za/acjr/events/access-to-justice-confe
 rence
END:VEVENT
END:VCALENDAR
