BEGIN:VCALENDAR
VERSION:2.0
PRODID:-//Plone.org//NONSGML plone.app.event//EN
X-WR-TIMEZONE:Africa/Johannesburg
BEGIN:VEVENT
SUMMARY:DOJCD consultative workshop on the development of a national human
  rights treaty monitoring\, reporting and follow-up mechanism
DTSTART;VALUE=DATE:20180320
DTEND;VALUE=DATE:20180321
DTSTAMP;VALUE=DATE-TIME:20260419T141929Z
UID:b7cad5ee959345ab8cd5ca8e6b9805da@68.183.32.190:8292
CATEGORIES:ACJR Event
CREATED;VALUE=DATE-TIME:20180306T140026Z
DESCRIPTION:Toward developing a road map for human rights treaty monitorin
 g and reporting so as to strengthen South Africa’s system of human right
 s-based planning and accountability.
LAST-MODIFIED;VALUE=DATE-TIME:20230913T082738Z
LOCATION:Pretoria
URL:https://dullahomarinstitute.org.za/acjr/events/dojcd-consultative-work
 shop-on-the-development-of-a-national-human-rights-treaty-monitoring-repor
 ting-and-follow-up-mechanism
END:VEVENT
END:VCALENDAR
