BEGIN:VCALENDAR
VERSION:2.0
PRODID:-//Plone.org//NONSGML plone.app.event//EN
X-WR-TIMEZONE:Africa/Johannesburg
BEGIN:VEVENT
SUMMARY:Malawi Workshop on Democratic Policing
DTSTART;VALUE=DATE:20190723
DTEND;VALUE=DATE:20190724
DTSTAMP;VALUE=DATE-TIME:20260421T035459Z
UID:184610222dcf44e7b8a3322ba545ab43@68.183.32.190:8292
CATEGORIES:ACJR Event
CREATED;VALUE=DATE-TIME:20190703T094846Z
DESCRIPTION:23 July 2019: ACJR will be conducting a workshop with police a
 nd other stakeholders on democratic policing\, in Blantyre.
LAST-MODIFIED;VALUE=DATE-TIME:20230913T082738Z
LOCATION:Sunbird Mount Soche\, Blantyre
URL:https://dullahomarinstitute.org.za/acjr/events/malawi-workshop-on-demo
 cratic-policing
END:VEVENT
END:VCALENDAR
