BEGIN:VCALENDAR
VERSION:2.0
PRODID:-//Plone.org//NONSGML plone.app.event//EN
X-WR-TIMEZONE:Africa/Johannesburg
BEGIN:VEVENT
SUMMARY:Western Cape Police Ombudsman (WCPO) draft report consultation
DTSTART;TZID=Africa/Johannesburg;VALUE=DATE-TIME:20180227T103000
DTEND;TZID=Africa/Johannesburg;VALUE=DATE-TIME:20180227T113000
DTSTAMP;VALUE=DATE-TIME:20260421T094922Z
UID:ce934f2d858d44ecbc16c25fbaef6891@68.183.32.190:8292
CATEGORIES:ACJR Event
CREATED;VALUE=DATE-TIME:20180226T121932Z
DESCRIPTION:A draft report on data trends relating to the office of the WC
 PO was submitted on 25 January 2018. This is a consultative meeting with W
 CPO staff to discuss the findings of the report.
LAST-MODIFIED;VALUE=DATE-TIME:20230913T082739Z
LOCATION:Cape Town
URL:https://dullahomarinstitute.org.za/acjr/events/western-cape-police-omb
 udsman-wcpo-draft-report-consultation
END:VEVENT
BEGIN:VTIMEZONE
TZID:Africa/Johannesburg
X-LIC-LOCATION:Africa/Johannesburg
BEGIN:STANDARD
DTSTART;VALUE=DATE-TIME:19440319T010000
TZNAME:SAST
TZOFFSETFROM:+0300
TZOFFSETTO:+0200
END:STANDARD
END:VTIMEZONE
END:VCALENDAR
