BEGIN:VCALENDAR
VERSION:2.0
PRODID:-//Plone.org//NONSGML plone.app.event//EN
X-WR-TIMEZONE:Africa/Johannesburg
BEGIN:VEVENT
SUMMARY:Launch: 17th Issue of the Local Government Law of South Africa [19
  November 2025]
DTSTART;TZID=Africa/Johannesburg;VALUE=DATE-TIME:20251119T173000
DTEND;TZID=Africa/Johannesburg;VALUE=DATE-TIME:20251119T200000
DTSTAMP;VALUE=DATE-TIME:20260426T030704Z
UID:f68368af4bd34915b153174ff07bfb02@68.183.32.190:8292
CATEGORIES:news: Local Gov
CONTACT:Laura Wellen\, lwellen@uwc.ac.za
CREATED;VALUE=DATE-TIME:20251031T120159Z
DESCRIPTION:The National Research Chair in Multilevel Government at the Du
 llah Omar Institute\, University of the Western Cape\, and the Municipal L
 aw Forum invites you to the launch of the updated ‘Local Government Law 
 of South Africa’ (published by LexisNexis South Africa).
LAST-MODIFIED;VALUE=DATE-TIME:20251104T094323Z
LOCATION:Herold Gie Attorneys\, 80 McKenzie St\, Gardens\, Cape Town
URL:https://dullahomarinstitute.org.za/events/launch-17th-issue-of-the-loc
 al-government-law-of-south-africa-19-november-2025
END:VEVENT
BEGIN:VTIMEZONE
TZID:Africa/Johannesburg
X-LIC-LOCATION:Africa/Johannesburg
BEGIN:STANDARD
DTSTART;VALUE=DATE-TIME:19440319T010000
TZNAME:SAST
TZOFFSETFROM:+0300
TZOFFSETTO:+0200
END:STANDARD
END:VTIMEZONE
END:VCALENDAR
