BEGIN:VCALENDAR
VERSION:2.0
PRODID:-//Plone.org//NONSGML plone.app.event//EN
X-WR-TIMEZONE:Africa/Johannesburg
BEGIN:VEVENT
SUMMARY:Webinar - Combating Obstetric Violence in Africa: Human Rights\, D
 ignity\, and Accountability in Maternal Health Care [27 May 2025]
DTSTART;TZID=Africa/Johannesburg;VALUE=DATE-TIME:20250527T130000
DTEND;TZID=Africa/Johannesburg;VALUE=DATE-TIME:20250527T143000
DTSTAMP;VALUE=DATE-TIME:20260419T213243Z
UID:aacf35d2ba3e4d0494eaf4da045ba5a8@68.183.32.190:8292
CATEGORIES:DOI Event,news: SER
CONTACT:Crystal Nitsckie\, cnitsckie@uwc.ac.za
CREATED;VALUE=DATE-TIME:20250515T073043Z
DESCRIPTION:The Socio-Economic Rights Project at the Dullah Omar Institute
  invites you to a critical and timely webinar on Obstetric Violence in Afr
 ica - a pervasive yet often overlooked form of gender-based violence that
  undermines maternal health and women's rights across the African continen
 t.
LAST-MODIFIED;VALUE=DATE-TIME:20250515T074452Z
LOCATION:Zoom
URL:https://dullahomarinstitute.org.za/events/webinar-combating-obstetric-
 violence-in-africa-human-rights-dignity-and-accountability-in-maternal-hea
 lth-care-27-may-2025
END:VEVENT
BEGIN:VTIMEZONE
TZID:Africa/Johannesburg
X-LIC-LOCATION:Africa/Johannesburg
BEGIN:STANDARD
DTSTART;VALUE=DATE-TIME:19440319T010000
TZNAME:SAST
TZOFFSETFROM:+0300
TZOFFSETTO:+0200
END:STANDARD
END:VTIMEZONE
END:VCALENDAR
