BEGIN:VCALENDAR
VERSION:2.0
PRODID:-//Plone.org//NONSGML plone.app.event//EN
X-WR-TIMEZONE:Africa/Johannesburg
BEGIN:VEVENT
SUMMARY:Webinar: Laws and Policies on Young People’s Sexual and Reproduc
 tive Health and Rights (SRHR) in Africa [11 September 2025]
DTSTART;TZID=Africa/Johannesburg;VALUE=DATE-TIME:20250911T120000
DTEND;TZID=Africa/Johannesburg;VALUE=DATE-TIME:20250911T133000
DTSTAMP;VALUE=DATE-TIME:20260420T025251Z
UID:f20c35c672b948a3815cf966915006a0@68.183.32.190:8292
CATEGORIES:news: SER
CONTACT:Crystal Nitsckie\, cnitsckie@uwc.ac.za
CREATED;VALUE=DATE-TIME:20250905T105327Z
DESCRIPTION:The Socio-Economic Rights Project at the Dullah Omar Institute
 \, University of the Western Cape\, invites you to a webinar that explores
  how national laws and policies on sexual and reproductive health and righ
 ts (SRHR) shape the lived realities of adolescents and young people\, pres
 enting evidence and case studies from across Africa.
LAST-MODIFIED;VALUE=DATE-TIME:20250905T115502Z
LOCATION:Zoom
URL:https://dullahomarinstitute.org.za/events/webinar-laws-and-policies-on
 -young-people2019s-sexual-and-reproductive-health-and-rights-srhr-in-afric
 a-11-september-2025
END:VEVENT
BEGIN:VTIMEZONE
TZID:Africa/Johannesburg
X-LIC-LOCATION:Africa/Johannesburg
BEGIN:STANDARD
DTSTART;VALUE=DATE-TIME:19440319T010000
TZNAME:SAST
TZOFFSETFROM:+0300
TZOFFSETTO:+0200
END:STANDARD
END:VTIMEZONE
END:VCALENDAR
