BEGIN:VCALENDAR
VERSION:2.0
PRODID:-//Plone.org//NONSGML plone.app.event//EN
X-WR-TIMEZONE:Africa/Johannesburg
BEGIN:VEVENT
SUMMARY:Webinar on Recommendations for reform of the NPA [3 November 2020]
DTSTART;TZID=Africa/Johannesburg;VALUE=DATE-TIME:20201103T100000
DTEND;TZID=Africa/Johannesburg;VALUE=DATE-TIME:20201103T113000
DTSTAMP;VALUE=DATE-TIME:20260423T213835Z
UID:f530d91c2ac545ee943d1bbc42ddacab@68.183.32.190:8292
CATEGORIES:DOI Event
CONTACT:Crystal Nitsckie\, cnitsckie@uwc.ac.za
CREATED;VALUE=DATE-TIME:20201022T093342Z
DESCRIPTION:Africa Criminal Justice Reform (ACJR) is hosting a webinar on 
 3 November 2020 on 'Recommendations for reform of the NPA'.
LAST-MODIFIED;VALUE=DATE-TIME:20230913T083208Z
LOCATION:Zoom (Virtual meeting)
URL:https://dullahomarinstitute.org.za/events/webinar-on-recommendations-f
 or-reform-of-the-npa-3-november-2020
END:VEVENT
BEGIN:VTIMEZONE
TZID:Africa/Johannesburg
X-LIC-LOCATION:Africa/Johannesburg
BEGIN:STANDARD
DTSTART;VALUE=DATE-TIME:19440319T010000
TZNAME:SAST
TZOFFSETFROM:+0300
TZOFFSETTO:+0200
END:STANDARD
END:VTIMEZONE
END:VCALENDAR
