BEGIN:VCALENDAR
VERSION:2.0
PRODID:-//Plone.org//NONSGML plone.app.event//EN
X-WR-TIMEZONE:Africa/Johannesburg
BEGIN:VEVENT
SUMMARY:Webinar on Unpacking deception: How misleading food marketing targ
 ets children – and the role of the Consumer Protection Act 2008 [10 June
  2025]
DTSTART;TZID=Africa/Johannesburg;VALUE=DATE-TIME:20250610T130000
DTEND;TZID=Africa/Johannesburg;VALUE=DATE-TIME:20250610T143000
DTSTAMP;VALUE=DATE-TIME:20260419T234626Z
UID:0fe6af487f204016a388aa265c468852@68.183.32.190:8292
CATEGORIES:doi event,news: SER
CONTACT:Crystal Nitsckie\, cnitsckie@uwc.ac.za
CREATED;VALUE=DATE-TIME:20250528T072412Z
DESCRIPTION:The Socio-Economic Rights Project at the Dullah Omar Institute
 \, University of the Western Cape\, invites you to a timely and impactful 
 webinar on how South Africa’s Consumer Protection Act (CPA) of 2008 can 
 be used to challenge misleading food and beverage marketing targeted at ch
 ildren.
LAST-MODIFIED;VALUE=DATE-TIME:20250528T072543Z
LOCATION:Zoom
URL:https://dullahomarinstitute.org.za/events/webinar-on-unpacking-decepti
 on-how-misleading-food-marketing-targets-children-2013-and-the-role-of-the
 -consumer-protection-act-2008-10-june-2025
END:VEVENT
BEGIN:VTIMEZONE
TZID:Africa/Johannesburg
X-LIC-LOCATION:Africa/Johannesburg
BEGIN:STANDARD
DTSTART;VALUE=DATE-TIME:19440319T010000
TZNAME:SAST
TZOFFSETFROM:+0300
TZOFFSETTO:+0200
END:STANDARD
END:VTIMEZONE
END:VCALENDAR
