BEGIN:VCALENDAR
VERSION:2.0
PRODID:-//Plone.org//NONSGML plone.app.event//EN
X-WR-TIMEZONE:Africa/Johannesburg
BEGIN:VEVENT
SUMMARY:Webinar: Report Launch & Dialogue on Combating Corruption in Local
  Government [20 October 2021]
DTSTART;TZID=Africa/Johannesburg;VALUE=DATE-TIME:20211020T083000
DTEND;TZID=Africa/Johannesburg;VALUE=DATE-TIME:20211020T100000
DTSTAMP;VALUE=DATE-TIME:20260423T214653Z
UID:4c58af38b90740dd93d9f42db1a71b50@68.183.32.190:8292
CATEGORIES:DOI Event
CONTACT:Mandy Cupido\, mccupido@uwc.ac.za
CREATED;VALUE=DATE-TIME:20211009T181621Z
DESCRIPTION:The Dullah Omar Institute\, in collaboration with the Hanns Se
 idel Foundation and the Western Cape Department of Local Government\, inv
 ites you to a webinar on the Report Launch & Dialogue: Combating Corruptio
 n in Local Government.
LAST-MODIFIED;VALUE=DATE-TIME:20230913T083209Z
LOCATION:Zoom (Virtual meeting)
URL:https://dullahomarinstitute.org.za/events/webinar-report-launch-dialog
 ue-combating-corruption-in-local-government-20-october-2021
END:VEVENT
BEGIN:VTIMEZONE
TZID:Africa/Johannesburg
X-LIC-LOCATION:Africa/Johannesburg
BEGIN:STANDARD
DTSTART;VALUE=DATE-TIME:19440319T010000
TZNAME:SAST
TZOFFSETFROM:+0300
TZOFFSETTO:+0200
END:STANDARD
END:VTIMEZONE
END:VCALENDAR
